BEGIN:VCALENDAR
VERSION:2.0
PRODID:-//Club Micro Saint-Maur - ECPv6.15.15//NONSGML v1.0//EN
CALSCALE:GREGORIAN
METHOD:PUBLISH
X-ORIGINAL-URL:https://www.clubmicrosaintmaur.info
X-WR-CALDESC:Évènements pour Club Micro Saint-Maur
REFRESH-INTERVAL;VALUE=DURATION:PT1H
X-Robots-Tag:noindex
X-PUBLISHED-TTL:PT1H
BEGIN:VTIMEZONE
TZID:Europe/Paris
BEGIN:DAYLIGHT
TZOFFSETFROM:+0100
TZOFFSETTO:+0200
TZNAME:CEST
DTSTART:20230326T010000
END:DAYLIGHT
BEGIN:STANDARD
TZOFFSETFROM:+0200
TZOFFSETTO:+0100
TZNAME:CET
DTSTART:20231029T010000
END:STANDARD
BEGIN:DAYLIGHT
TZOFFSETFROM:+0100
TZOFFSETTO:+0200
TZNAME:CEST
DTSTART:20240331T010000
END:DAYLIGHT
BEGIN:STANDARD
TZOFFSETFROM:+0200
TZOFFSETTO:+0100
TZNAME:CET
DTSTART:20241027T010000
END:STANDARD
BEGIN:DAYLIGHT
TZOFFSETFROM:+0100
TZOFFSETTO:+0200
TZNAME:CEST
DTSTART:20250330T010000
END:DAYLIGHT
BEGIN:STANDARD
TZOFFSETFROM:+0200
TZOFFSETTO:+0100
TZNAME:CET
DTSTART:20251026T010000
END:STANDARD
END:VTIMEZONE
BEGIN:VEVENT
DTSTART;VALUE=DATE:20241021
DTEND;VALUE=DATE:20241104
DTSTAMP:20260424T111926
CREATED:20241008T123816Z
LAST-MODIFIED:20241008T123816Z
UID:8395-1729468800-1730678399@www.clubmicrosaintmaur.info
SUMMARY:VACANCES DE TOUSSAINT
DESCRIPTION:
URL:https://www.clubmicrosaintmaur.info/evenement/vacances-de-toussaint/
END:VEVENT
BEGIN:VEVENT
DTSTART;TZID=Europe/Paris:20241104T140000
DTEND;TZID=Europe/Paris:20241104T153000
DTSTAMP:20260424T111926
CREATED:20241015T134930Z
LAST-MODIFIED:20241015T134930Z
UID:8506-1730728800-1730734200@www.clubmicrosaintmaur.info
SUMMARY:Atelier WRITER
DESCRIPTION:14 h 00 – 15 h 30
URL:https://www.clubmicrosaintmaur.info/evenement/atelier-writer-32/
LOCATION:Salle informatique\, Place de la Mairie\, SAINT-MAUR\, 36250\, France
END:VEVENT
BEGIN:VEVENT
DTSTART;TZID=Europe/Paris:20241105T140000
DTEND;TZID=Europe/Paris:20241105T173000
DTSTAMP:20260424T111926
CREATED:20241002T081900Z
LAST-MODIFIED:20241002T082020Z
UID:8291-1730815200-1730827800@www.clubmicrosaintmaur.info
SUMMARY:ATELIER WINDOWS
DESCRIPTION:Atelier Windows Initiation \n14H – 15H30 \n  \n  \nAtelier Windows Perfectionnement \n16H – 17H30
URL:https://www.clubmicrosaintmaur.info/evenement/atelier-windows-52/
LOCATION:Salle informatique\, Place de la Mairie\, SAINT-MAUR\, 36250\, France
END:VEVENT
BEGIN:VEVENT
DTSTART;TZID=Europe/Paris:20241107T140000
DTEND;TZID=Europe/Paris:20241107T160000
DTSTAMP:20260424T111926
CREATED:20241003T145023Z
LAST-MODIFIED:20241003T145023Z
UID:8370-1730988000-1730995200@www.clubmicrosaintmaur.info
SUMMARY:Diaporama video
DESCRIPTION:
URL:https://www.clubmicrosaintmaur.info/evenement/diaporama-video-14/
END:VEVENT
BEGIN:VEVENT
DTSTART;TZID=Europe/Paris:20241108T140000
DTEND;TZID=Europe/Paris:20241108T150000
DTSTAMP:20260424T111926
CREATED:20241008T124012Z
LAST-MODIFIED:20241008T124012Z
UID:8397-1731074400-1731078000@www.clubmicrosaintmaur.info
SUMMARY:DIAPORAMA PHOTO
DESCRIPTION:
URL:https://www.clubmicrosaintmaur.info/evenement/diaporama-photo-4/
LOCATION:Salle informatique\, Place de la Mairie\, SAINT-MAUR\, 36250\, France
END:VEVENT
BEGIN:VEVENT
DTSTART;TZID=Europe/Paris:20241108T150000
DTEND;TZID=Europe/Paris:20241108T170000
DTSTAMP:20260424T111926
CREATED:20240830T121853Z
LAST-MODIFIED:20240830T121853Z
UID:8059-1731078000-1731085200@www.clubmicrosaintmaur.info
SUMMARY:Activités Libres
DESCRIPTION:
URL:https://www.clubmicrosaintmaur.info/evenement/activites-libres-4/
END:VEVENT
BEGIN:VEVENT
DTSTART;TZID=Europe/Paris:20241112T140000
DTEND;TZID=Europe/Paris:20241112T173000
DTSTAMP:20260424T111926
CREATED:20241002T082112Z
LAST-MODIFIED:20241002T082112Z
UID:8293-1731420000-1731432600@www.clubmicrosaintmaur.info
SUMMARY:ATELIER WINDOWS
DESCRIPTION:Atelier Windows Initiation \n14H – 15H30 \n  \n  \nAtelier Windows Perfectionnement \n16H – 17H30
URL:https://www.clubmicrosaintmaur.info/evenement/atelier-windows-53/
LOCATION:Salle informatique\, Place de la Mairie\, SAINT-MAUR\, 36250\, France
END:VEVENT
BEGIN:VEVENT
DTSTART;TZID=Europe/Paris:20241113T140000
DTEND;TZID=Europe/Paris:20241113T153000
DTSTAMP:20260424T111926
CREATED:20240830T115018Z
LAST-MODIFIED:20240830T115018Z
UID:8033-1731506400-1731511800@www.clubmicrosaintmaur.info
SUMMARY:Atelier Créatif GIMP
DESCRIPTION:
URL:https://www.clubmicrosaintmaur.info/evenement/atelier-creatif-gimp-25/
END:VEVENT
BEGIN:VEVENT
DTSTART;TZID=Europe/Paris:20241114T140000
DTEND;TZID=Europe/Paris:20241114T153000
DTSTAMP:20260424T111926
CREATED:20241008T124406Z
LAST-MODIFIED:20241008T124406Z
UID:8405-1731592800-1731598200@www.clubmicrosaintmaur.info
SUMMARY:ATELIER INTERNET NIVEAU 1
DESCRIPTION:
URL:https://www.clubmicrosaintmaur.info/evenement/atelier-internet-niveau-1-2/
LOCATION:Salle informatique\, Place de la Mairie\, SAINT-MAUR\, 36250\, France
END:VEVENT
BEGIN:VEVENT
DTSTART;TZID=Europe/Paris:20241114T160000
DTEND;TZID=Europe/Paris:20241114T173000
DTSTAMP:20260424T111926
CREATED:20241008T124439Z
LAST-MODIFIED:20241008T124439Z
UID:8407-1731600000-1731605400@www.clubmicrosaintmaur.info
SUMMARY:ATELIER INTERNET NIVEAU 2
DESCRIPTION:
URL:https://www.clubmicrosaintmaur.info/evenement/atelier-internet-niveau-2-2/
LOCATION:Salle informatique\, Place de la Mairie\, SAINT-MAUR\, 36250\, France
END:VEVENT
BEGIN:VEVENT
DTSTART;TZID=Europe/Paris:20241115T140000
DTEND;TZID=Europe/Paris:20241115T150000
DTSTAMP:20260424T111926
CREATED:20241008T124111Z
LAST-MODIFIED:20241008T124111Z
UID:8399-1731679200-1731682800@www.clubmicrosaintmaur.info
SUMMARY:DIAPORAMA PHOTO
DESCRIPTION:
URL:https://www.clubmicrosaintmaur.info/evenement/diaporama-photo-5/
LOCATION:Salle informatique\, Place de la Mairie\, SAINT-MAUR\, 36250\, France
END:VEVENT
BEGIN:VEVENT
DTSTART;TZID=Europe/Paris:20241115T150000
DTEND;TZID=Europe/Paris:20241115T170000
DTSTAMP:20260424T111926
CREATED:20240830T121936Z
LAST-MODIFIED:20240830T121936Z
UID:8061-1731682800-1731690000@www.clubmicrosaintmaur.info
SUMMARY:Activités Libres
DESCRIPTION:
URL:https://www.clubmicrosaintmaur.info/evenement/activites-libres-5/
END:VEVENT
BEGIN:VEVENT
DTSTART;TZID=Europe/Paris:20241118T140000
DTEND;TZID=Europe/Paris:20241118T153000
DTSTAMP:20260424T111926
CREATED:20241027T163853Z
LAST-MODIFIED:20241027T163853Z
UID:8551-1731938400-1731943800@www.clubmicrosaintmaur.info
SUMMARY:Atelier WRITER
DESCRIPTION:14 h 00 – 15 h 30
URL:https://www.clubmicrosaintmaur.info/evenement/atelier-writer-34/
END:VEVENT
BEGIN:VEVENT
DTSTART;TZID=Europe/Paris:20241119T140000
DTEND;TZID=Europe/Paris:20241119T173000
DTSTAMP:20260424T111926
CREATED:20241002T082204Z
LAST-MODIFIED:20241002T083716Z
UID:8295-1732024800-1732037400@www.clubmicrosaintmaur.info
SUMMARY:ATELIER WINDOWS
DESCRIPTION:Atelier Windows Initiation \n14H – 15H30 \n  \n  \nAtelier Windows Perfectionnement \n16H – 17H30
URL:https://www.clubmicrosaintmaur.info/evenement/atelier-windows-54/
LOCATION:Salle informatique\, Place de la Mairie\, SAINT-MAUR\, 36250\, France
END:VEVENT
BEGIN:VEVENT
DTSTART;TZID=Europe/Paris:20241120T154500
DTEND;TZID=Europe/Paris:20241120T171500
DTSTAMP:20260424T111926
CREATED:20240830T114745Z
LAST-MODIFIED:20240830T114831Z
UID:8031-1732117500-1732122900@www.clubmicrosaintmaur.info
SUMMARY:Atelier Créatif GIMP
DESCRIPTION:
URL:https://www.clubmicrosaintmaur.info/evenement/atelier-creatif-gimp-24/
END:VEVENT
BEGIN:VEVENT
DTSTART;TZID=Europe/Paris:20241121T140000
DTEND;TZID=Europe/Paris:20241121T160000
DTSTAMP:20260424T111926
CREATED:20241003T145106Z
LAST-MODIFIED:20241003T145106Z
UID:8372-1732197600-1732204800@www.clubmicrosaintmaur.info
SUMMARY:Diaporama vidéo
DESCRIPTION:
URL:https://www.clubmicrosaintmaur.info/evenement/diaporama-video-15/
END:VEVENT
BEGIN:VEVENT
DTSTART;TZID=Europe/Paris:20241122T140000
DTEND;TZID=Europe/Paris:20241122T150000
DTSTAMP:20260424T111926
CREATED:20241008T124147Z
LAST-MODIFIED:20241008T124147Z
UID:8401-1732284000-1732287600@www.clubmicrosaintmaur.info
SUMMARY:DIAPORAMA PHOTO
DESCRIPTION:
URL:https://www.clubmicrosaintmaur.info/evenement/diaporama-photo-6/
LOCATION:Salle informatique\, Place de la Mairie\, SAINT-MAUR\, 36250\, France
END:VEVENT
BEGIN:VEVENT
DTSTART;TZID=Europe/Paris:20241122T150000
DTEND;TZID=Europe/Paris:20241122T170000
DTSTAMP:20260424T111926
CREATED:20240830T122018Z
LAST-MODIFIED:20240830T122018Z
UID:8063-1732287600-1732294800@www.clubmicrosaintmaur.info
SUMMARY:Activités Libres
DESCRIPTION:
URL:https://www.clubmicrosaintmaur.info/evenement/activites-libres-6/
END:VEVENT
BEGIN:VEVENT
DTSTART;TZID=Europe/Paris:20241125T140000
DTEND;TZID=Europe/Paris:20241125T153000
DTSTAMP:20260424T111926
CREATED:20241027T163043Z
LAST-MODIFIED:20241027T163643Z
UID:8548-1732543200-1732548600@www.clubmicrosaintmaur.info
SUMMARY:Atelier WRITER
DESCRIPTION:14 h 00 – 15 h 30
URL:https://www.clubmicrosaintmaur.info/evenement/atelier-writer-33/
END:VEVENT
BEGIN:VEVENT
DTSTART;TZID=Europe/Paris:20241126T140000
DTEND;TZID=Europe/Paris:20241126T173000
DTSTAMP:20260424T111926
CREATED:20241002T082326Z
LAST-MODIFIED:20241002T083744Z
UID:8298-1732629600-1732642200@www.clubmicrosaintmaur.info
SUMMARY:ATELIER WINDOWS
DESCRIPTION:Atelier Windows Initiation \n14H – 15H30 \n  \n  \nAtelier Windows Perfectionnement \n16H – 17H30
URL:https://www.clubmicrosaintmaur.info/evenement/atelier-windows-55/
LOCATION:Salle informatique\, Place de la Mairie\, SAINT-MAUR\, 36250\, France
END:VEVENT
BEGIN:VEVENT
DTSTART;TZID=Europe/Paris:20241128T140000
DTEND;TZID=Europe/Paris:20241128T153000
DTSTAMP:20260424T111926
CREATED:20241008T124516Z
LAST-MODIFIED:20241008T124516Z
UID:8409-1732802400-1732807800@www.clubmicrosaintmaur.info
SUMMARY:ATELIER INTERNET NIVEAU 1
DESCRIPTION:
URL:https://www.clubmicrosaintmaur.info/evenement/atelier-internet-niveau-1-3/
LOCATION:Salle informatique\, Place de la Mairie\, SAINT-MAUR\, 36250\, France
END:VEVENT
BEGIN:VEVENT
DTSTART;TZID=Europe/Paris:20241128T160000
DTEND;TZID=Europe/Paris:20241128T173000
DTSTAMP:20260424T111926
CREATED:20241008T124550Z
LAST-MODIFIED:20241008T124550Z
UID:8411-1732809600-1732815000@www.clubmicrosaintmaur.info
SUMMARY:ATELIER INTERNET NIVEAU 2
DESCRIPTION:
URL:https://www.clubmicrosaintmaur.info/evenement/atelier-internet-niveau-2-3/
LOCATION:Salle informatique\, Place de la Mairie\, SAINT-MAUR\, 36250\, France
END:VEVENT
BEGIN:VEVENT
DTSTART;TZID=Europe/Paris:20241129T140000
DTEND;TZID=Europe/Paris:20241129T150000
DTSTAMP:20260424T111926
CREATED:20241008T124243Z
LAST-MODIFIED:20241008T124243Z
UID:8403-1732888800-1732892400@www.clubmicrosaintmaur.info
SUMMARY:DIAPORAMA PHOTO
DESCRIPTION:
URL:https://www.clubmicrosaintmaur.info/evenement/diaporama-photo-7/
LOCATION:Salle informatique\, Place de la Mairie\, SAINT-MAUR\, 36250\, France
END:VEVENT
BEGIN:VEVENT
DTSTART;TZID=Europe/Paris:20241129T150000
DTEND;TZID=Europe/Paris:20241129T170000
DTSTAMP:20260424T111926
CREATED:20240830T122140Z
LAST-MODIFIED:20240830T122140Z
UID:8067-1732892400-1732899600@www.clubmicrosaintmaur.info
SUMMARY:Activités Libres
DESCRIPTION:
URL:https://www.clubmicrosaintmaur.info/evenement/activites-libres-8/
END:VEVENT
END:VCALENDAR