BEGIN:VCALENDAR
VERSION:2.0
PRODID:-//Club Micro Saint-Maur - ECPv6.15.15//NONSGML v1.0//EN
CALSCALE:GREGORIAN
METHOD:PUBLISH
X-WR-CALNAME:Club Micro Saint-Maur
X-ORIGINAL-URL:https://www.clubmicrosaintmaur.info
X-WR-CALDESC:Évènements pour Club Micro Saint-Maur
REFRESH-INTERVAL;VALUE=DURATION:PT1H
X-Robots-Tag:noindex
X-PUBLISHED-TTL:PT1H
BEGIN:VTIMEZONE
TZID:Europe/Paris
BEGIN:DAYLIGHT
TZOFFSETFROM:+0100
TZOFFSETTO:+0200
TZNAME:CEST
DTSTART:20230326T010000
END:DAYLIGHT
BEGIN:STANDARD
TZOFFSETFROM:+0200
TZOFFSETTO:+0100
TZNAME:CET
DTSTART:20231029T010000
END:STANDARD
BEGIN:DAYLIGHT
TZOFFSETFROM:+0100
TZOFFSETTO:+0200
TZNAME:CEST
DTSTART:20240331T010000
END:DAYLIGHT
BEGIN:STANDARD
TZOFFSETFROM:+0200
TZOFFSETTO:+0100
TZNAME:CET
DTSTART:20241027T010000
END:STANDARD
BEGIN:DAYLIGHT
TZOFFSETFROM:+0100
TZOFFSETTO:+0200
TZNAME:CEST
DTSTART:20250330T010000
END:DAYLIGHT
BEGIN:STANDARD
TZOFFSETFROM:+0200
TZOFFSETTO:+0100
TZNAME:CET
DTSTART:20251026T010000
END:STANDARD
BEGIN:DAYLIGHT
TZOFFSETFROM:+0100
TZOFFSETTO:+0200
TZNAME:CEST
DTSTART:20260329T010000
END:DAYLIGHT
BEGIN:STANDARD
TZOFFSETFROM:+0200
TZOFFSETTO:+0100
TZNAME:CET
DTSTART:20261025T010000
END:STANDARD
END:VTIMEZONE
BEGIN:VEVENT
DTSTART;TZID=Europe/Paris:20241202T140000
DTEND;TZID=Europe/Paris:20241202T153000
DTSTAMP:20260422T113456
CREATED:20241124T131720Z
LAST-MODIFIED:20241124T131720Z
UID:8664-1733148000-1733153400@www.clubmicrosaintmaur.info
SUMMARY:Atelier WRITER
DESCRIPTION:14 h 00 – 15 h 30
URL:https://www.clubmicrosaintmaur.info/evenement/atelier-writer-37/
END:VEVENT
BEGIN:VEVENT
DTSTART;TZID=Europe/Paris:20241203T140000
DTEND;TZID=Europe/Paris:20241203T173000
DTSTAMP:20260422T113456
CREATED:20241002T082411Z
LAST-MODIFIED:20241002T083938Z
UID:8300-1733234400-1733247000@www.clubmicrosaintmaur.info
SUMMARY:ATELIER WINDOWS
DESCRIPTION:Atelier Windows Initiation \n14H – 15H30 \n  \n  \nAtelier Windows Perfectionnement \n16H – 17H30
URL:https://www.clubmicrosaintmaur.info/evenement/atelier-windows-56/
LOCATION:Salle informatique\, Place de la Mairie\, SAINT-MAUR\, 36250\, France
END:VEVENT
BEGIN:VEVENT
DTSTART;TZID=Europe/Paris:20241205T140000
DTEND;TZID=Europe/Paris:20241205T160000
DTSTAMP:20260422T113456
CREATED:20241003T145157Z
LAST-MODIFIED:20241003T145157Z
UID:8374-1733407200-1733414400@www.clubmicrosaintmaur.info
SUMMARY:Diaporama vidéo
DESCRIPTION:
URL:https://www.clubmicrosaintmaur.info/evenement/diaporama-video-16/
END:VEVENT
BEGIN:VEVENT
DTSTART;TZID=Europe/Paris:20241206T140000
DTEND;TZID=Europe/Paris:20241206T150000
DTSTAMP:20260422T113456
CREATED:20241008T124811Z
LAST-MODIFIED:20241008T124811Z
UID:8415-1733493600-1733497200@www.clubmicrosaintmaur.info
SUMMARY:DIAPORAMA PHOTO
DESCRIPTION:
URL:https://www.clubmicrosaintmaur.info/evenement/diaporama-photo-8/
LOCATION:Salle informatique\, Place de la Mairie\, SAINT-MAUR\, 36250\, France
END:VEVENT
BEGIN:VEVENT
DTSTART;TZID=Europe/Paris:20241206T150000
DTEND;TZID=Europe/Paris:20241206T170000
DTSTAMP:20260422T113456
CREATED:20240830T122232Z
LAST-MODIFIED:20240830T122232Z
UID:8069-1733497200-1733504400@www.clubmicrosaintmaur.info
SUMMARY:Activités Libres
DESCRIPTION:
URL:https://www.clubmicrosaintmaur.info/evenement/activites-libres-9/
END:VEVENT
BEGIN:VEVENT
DTSTART;TZID=Europe/Paris:20241209T140000
DTEND;TZID=Europe/Paris:20241209T153000
DTSTAMP:20260422T113456
CREATED:20241124T130912Z
LAST-MODIFIED:20241124T131012Z
UID:8657-1733752800-1733758200@www.clubmicrosaintmaur.info
SUMMARY:Atelier WRITER
DESCRIPTION:14 h 00 – 15 h 30
URL:https://www.clubmicrosaintmaur.info/evenement/atelier-writer-35/
END:VEVENT
BEGIN:VEVENT
DTSTART;TZID=Europe/Paris:20241210T140000
DTEND;TZID=Europe/Paris:20241210T173000
DTSTAMP:20260422T113456
CREATED:20241002T082518Z
LAST-MODIFIED:20241002T082518Z
UID:8302-1733839200-1733851800@www.clubmicrosaintmaur.info
SUMMARY:ATELIER WINDOWS
DESCRIPTION:Atelier Windows Initiation \n14H – 15H30 \n  \n  \nAtelier Windows Perfectionnement \n16H – 17H30
URL:https://www.clubmicrosaintmaur.info/evenement/atelier-windows-57/
LOCATION:Salle informatique\, Place de la Mairie\, SAINT-MAUR\, 36250\, France
END:VEVENT
BEGIN:VEVENT
DTSTART;TZID=Europe/Paris:20241211T140000
DTEND;TZID=Europe/Paris:20241211T153000
DTSTAMP:20260422T113456
CREATED:20240830T115330Z
LAST-MODIFIED:20240830T115330Z
UID:8037-1733925600-1733931000@www.clubmicrosaintmaur.info
SUMMARY:Atelier Créatif GIMP
DESCRIPTION:
URL:https://www.clubmicrosaintmaur.info/evenement/atelier-creatif-gimp-27/
END:VEVENT
BEGIN:VEVENT
DTSTART;TZID=Europe/Paris:20241212T140000
DTEND;TZID=Europe/Paris:20241212T153000
DTSTAMP:20260422T113456
CREATED:20241008T125039Z
LAST-MODIFIED:20241008T125039Z
UID:8421-1734012000-1734017400@www.clubmicrosaintmaur.info
SUMMARY:ATELIER INTERNET NIVEAU 1
DESCRIPTION:
URL:https://www.clubmicrosaintmaur.info/evenement/atelier-internet-niveau-1-4/
LOCATION:Salle informatique\, Place de la Mairie\, SAINT-MAUR\, 36250\, France
END:VEVENT
BEGIN:VEVENT
DTSTART;TZID=Europe/Paris:20241212T160000
DTEND;TZID=Europe/Paris:20241212T173000
DTSTAMP:20260422T113456
CREATED:20241008T125114Z
LAST-MODIFIED:20241008T125114Z
UID:8423-1734019200-1734024600@www.clubmicrosaintmaur.info
SUMMARY:ATELIER INTERNET NIVEAU 2
DESCRIPTION:
URL:https://www.clubmicrosaintmaur.info/evenement/atelier-internet-niveau-2-4/
LOCATION:Salle informatique\, Place de la Mairie\, SAINT-MAUR\, 36250\, France
END:VEVENT
BEGIN:VEVENT
DTSTART;TZID=Europe/Paris:20241213T140000
DTEND;TZID=Europe/Paris:20241213T150000
DTSTAMP:20260422T113456
CREATED:20241008T124847Z
LAST-MODIFIED:20241008T124847Z
UID:8417-1734098400-1734102000@www.clubmicrosaintmaur.info
SUMMARY:DIAPORAMA PHOTO
DESCRIPTION:
URL:https://www.clubmicrosaintmaur.info/evenement/diaporama-photo-9/
LOCATION:Salle informatique\, Place de la Mairie\, SAINT-MAUR\, 36250\, France
END:VEVENT
BEGIN:VEVENT
DTSTART;TZID=Europe/Paris:20241213T150000
DTEND;TZID=Europe/Paris:20241213T170000
DTSTAMP:20260422T113456
CREATED:20240830T122315Z
LAST-MODIFIED:20240830T122315Z
UID:8071-1734102000-1734109200@www.clubmicrosaintmaur.info
SUMMARY:Activités Libres
DESCRIPTION:
URL:https://www.clubmicrosaintmaur.info/evenement/activites-libres-10/
END:VEVENT
BEGIN:VEVENT
DTSTART;TZID=Europe/Paris:20241216T140000
DTEND;TZID=Europe/Paris:20241216T153000
DTSTAMP:20260422T113456
CREATED:20241124T131230Z
LAST-MODIFIED:20241124T131338Z
UID:8660-1734357600-1734363000@www.clubmicrosaintmaur.info
SUMMARY:Atelier WRITER
DESCRIPTION:14 h 00 – 15 h 30
URL:https://www.clubmicrosaintmaur.info/evenement/atelier-writer-36/
END:VEVENT
BEGIN:VEVENT
DTSTART;TZID=Europe/Paris:20241217T140000
DTEND;TZID=Europe/Paris:20241217T173000
DTSTAMP:20260422T113456
CREATED:20241002T082635Z
LAST-MODIFIED:20241002T082635Z
UID:8304-1734444000-1734456600@www.clubmicrosaintmaur.info
SUMMARY:ATELIER WINDOWS
DESCRIPTION:Atelier Windows Initiation \n14H – 15H30 \n  \n  \nAtelier Windows Perfectionnement \n16H – 17H30
URL:https://www.clubmicrosaintmaur.info/evenement/atelier-windows-58/
LOCATION:Salle informatique\, Place de la Mairie\, SAINT-MAUR\, 36250\, France
END:VEVENT
BEGIN:VEVENT
DTSTART;TZID=Europe/Paris:20241218T154500
DTEND;TZID=Europe/Paris:20241218T171500
DTSTAMP:20260422T113456
CREATED:20240830T115426Z
LAST-MODIFIED:20240830T115426Z
UID:8039-1734536700-1734542100@www.clubmicrosaintmaur.info
SUMMARY:Atelier Créatif GIMP
DESCRIPTION:
URL:https://www.clubmicrosaintmaur.info/evenement/atelier-creatif-gimp-28/
END:VEVENT
BEGIN:VEVENT
DTSTART;TZID=Europe/Paris:20241219T140000
DTEND;TZID=Europe/Paris:20241219T160000
DTSTAMP:20260422T113456
CREATED:20241003T145239Z
LAST-MODIFIED:20241003T145239Z
UID:8376-1734616800-1734624000@www.clubmicrosaintmaur.info
SUMMARY:Diaporama vidéo
DESCRIPTION:
URL:https://www.clubmicrosaintmaur.info/evenement/diaporama-video-17/
END:VEVENT
BEGIN:VEVENT
DTSTART;TZID=Europe/Paris:20241220T140000
DTEND;TZID=Europe/Paris:20241220T150000
DTSTAMP:20260422T113456
CREATED:20241008T124933Z
LAST-MODIFIED:20241008T124933Z
UID:8419-1734703200-1734706800@www.clubmicrosaintmaur.info
SUMMARY:DIAPORAMA PHOTO
DESCRIPTION:
URL:https://www.clubmicrosaintmaur.info/evenement/diaporama-photo-10/
LOCATION:Salle informatique\, Place de la Mairie\, SAINT-MAUR\, 36250\, France
END:VEVENT
BEGIN:VEVENT
DTSTART;TZID=Europe/Paris:20241220T150000
DTEND;TZID=Europe/Paris:20241220T170000
DTSTAMP:20260422T113456
CREATED:20240830T122417Z
LAST-MODIFIED:20240830T122417Z
UID:8073-1734706800-1734714000@www.clubmicrosaintmaur.info
SUMMARY:Activités Libres
DESCRIPTION:
URL:https://www.clubmicrosaintmaur.info/evenement/activites-libres-11/
END:VEVENT
BEGIN:VEVENT
DTSTART;VALUE=DATE:20241221
DTEND;VALUE=DATE:20250106
DTSTAMP:20260422T113456
CREATED:20241008T124722Z
LAST-MODIFIED:20241008T124722Z
UID:8413-1734739200-1736121599@www.clubmicrosaintmaur.info
SUMMARY:VACANCES NOEL
DESCRIPTION:
URL:https://www.clubmicrosaintmaur.info/evenement/vacances-noel/
END:VEVENT
END:VCALENDAR